BEGIN:VCALENDAR
VERSION:2.0
PRODID:-//North Wales Landrover Club - ECPv6.15.20//NONSGML v1.0//EN
CALSCALE:GREGORIAN
METHOD:PUBLISH
X-WR-CALNAME:North Wales Landrover Club
X-ORIGINAL-URL:https://nwlrc.co.uk
X-WR-CALDESC:Events for North Wales Landrover Club
REFRESH-INTERVAL;VALUE=DURATION:PT1H
X-Robots-Tag:noindex
X-PUBLISHED-TTL:PT1H
BEGIN:VTIMEZONE
TZID:UTC
BEGIN:STANDARD
TZOFFSETFROM:+0000
TZOFFSETTO:+0000
TZNAME:UTC
DTSTART:20160101T000000
END:STANDARD
END:VTIMEZONE
BEGIN:VEVENT
DTSTART;VALUE=DATE:20170325
DTEND;VALUE=DATE:20170326
DTSTAMP:20260422T235252
CREATED:20161020T091045Z
LAST-MODIFIED:20161020T091045Z
UID:2341-1490400000-1490486399@nwlrc.co.uk
SUMMARY:Green Laning (This event is now Full)
DESCRIPTION:Come and enjoy the welsh country side. Meeting at 9.30 – you will be contacted in the approaching week with meeting place. \n>BOOK NOW<    Event now full no more bookings being taken \nPlease Note:\nAll Bookings Must be done one week in advance in order that all relevant paperwork can be completed and authorities notified.
URL:https://nwlrc.co.uk/event/green-laning-7/
CATEGORIES:Green Laning
ORGANIZER;CN="Non-Comp Secretary":MAILTO:jackie_lewis7@hotmail.co.uk
END:VEVENT
END:VCALENDAR