BEGIN:VCALENDAR
VERSION:2.0
PRODID:-//North Wales Landrover Club - ECPv6.15.20//NONSGML v1.0//EN
CALSCALE:GREGORIAN
METHOD:PUBLISH
X-WR-CALNAME:North Wales Landrover Club
X-ORIGINAL-URL:https://nwlrc.co.uk
X-WR-CALDESC:Events for North Wales Landrover Club
REFRESH-INTERVAL;VALUE=DURATION:PT1H
X-Robots-Tag:noindex
X-PUBLISHED-TTL:PT1H
BEGIN:VTIMEZONE
TZID:UTC
BEGIN:STANDARD
TZOFFSETFROM:+0000
TZOFFSETTO:+0000
TZNAME:UTC
DTSTART:20180101T000000
END:STANDARD
END:VTIMEZONE
BEGIN:VEVENT
DTSTART;VALUE=DATE:20250216
DTEND;VALUE=DATE:20250217
DTSTAMP:20260420T182156
CREATED:20161215T153718Z
LAST-MODIFIED:20250213T215807Z
UID:2603-1739664000-1739750399@nwlrc.co.uk
SUMMARY:Gwyddelwern - TYRO/CCV
DESCRIPTION:  \nTBC by landowner CCV – Pre-booked =  £30  on the day =£35 \nTYRO –  pre-booked =£25 on the day =£30 \n  \nScrutineering 8.30 to 9.30\, trial starts 10am. \n  \nCraig Lelo\, Gwyddelwern LL21 9SD\nFrom A5 take the A494 by Corwen\, site on left a mile after Gwyddelwern.\nFrom Ruthin Take the A494\, site on right about a mile after Brynsaithmarchog.
URL:https://nwlrc.co.uk/event/gwyddelwern-rtv-ccv/
LOCATION:Gwyddelwern\, Craig Lelo\,  Gwyddelwern \,Corwen\, LL21 9SD\, United Kingdom
CATEGORIES:Trials
ORGANIZER;CN="Competition Secretary":MAILTO:secretary.nwlrc@btinternet.com
END:VEVENT
BEGIN:VEVENT
DTSTART;TZID=UTC:20240907T080000
DTEND;TZID=UTC:20240908T170000
DTSTAMP:20260420T182156
CREATED:20231128T171039Z
LAST-MODIFIED:20250602T214554Z
UID:5452-1725696000-1725814800@nwlrc.co.uk
SUMMARY:LRO SHOW BELVOIR CASTLE
DESCRIPTION:https://www.lroshow.com/
URL:https://nwlrc.co.uk/event/lro-show-belvoir-castle/
LOCATION:Belvoir castle\, Grantham\, NG32 1PE\, United Kingdom
ORGANIZER;CN="Kim Whormsley":MAILTO:kimwhormsley@googlemail.com
END:VEVENT
BEGIN:VEVENT
DTSTART;TZID=UTC:20240523T120000
DTEND;TZID=UTC:20240528T120000
DTSTAMP:20260420T182156
CREATED:20240206T090403Z
LAST-MODIFIED:20240206T090441Z
UID:5557-1716465600-1716897600@nwlrc.co.uk
SUMMARY:ALRC National Rally Whaddon 2024
DESCRIPTION:Welcome to the ALRC\nThe Association of Land Rover Clubs is a single marque club whose operation is dedicated to products of Land Rover Ltd and its predecessors and operates with its consent\, catering for owners and users of all Land Rover vehicles. \nThe Association is an international organisation with member clubs from around the world who are proud and pleased to be associated with the ALRC and the Land Rover product. \nThe Clubs within the Association cater for a variety of interests. The majority participate in off road competition\, varying from family vehicle trials to “full on” speed events such as competitive safaris. Yet within these are many individual members who like Green Laning or Camping and Caravanning. There is also a strong contingent of members whose ambitions are to rebuild and fully restore their vehicles and there are also those who simply like customising their vehicles for pure enjoyment\, however the common denominator for all these enthusiasts is their love of the Land Rover vehicle\, long may it last. \nhttps://alrc.co.uk/ \n 
URL:https://nwlrc.co.uk/event/alrc-national-rally-whaddon-2024/
END:VEVENT
BEGIN:VEVENT
DTSTART;VALUE=DATE:20240518
DTEND;VALUE=DATE:20240520
DTSTAMP:20260420T182156
CREATED:20161020T113414Z
LAST-MODIFIED:20240206T083654Z
UID:2372-1715990400-1716163199@nwlrc.co.uk
SUMMARY:Anglesey Festival of Transport
DESCRIPTION:  \nAT MONA SHOWGROUND\, ANGLESEY
URL:https://nwlrc.co.uk/event/anglesey-festival-of-transport-social-weekend/
CATEGORIES:Social Events
END:VEVENT
BEGIN:VEVENT
DTSTART;TZID=UTC:20240511T080000
DTEND;TZID=UTC:20240512T170000
DTSTAMP:20260420T182156
CREATED:20241218T105628Z
LAST-MODIFIED:20250227T122341Z
UID:5808-1715414400-1715533200@nwlrc.co.uk
SUMMARY:Castlewood 4×4 & Overlander Show
DESCRIPTION:
URL:https://nwlrc.co.uk/event/castlewood-4x4-overlander-show/
END:VEVENT
BEGIN:VEVENT
DTSTART;TZID=UTC:20231214T193000
DTEND;TZID=UTC:20231214T210000
DTSTAMP:20260420T182156
CREATED:20231211T132548Z
LAST-MODIFIED:20231211T132548Z
UID:5460-1702582200-1702587600@nwlrc.co.uk
SUMMARY:EGM
DESCRIPTION:EGM – 14th December 2023 @ 19.30 \nDue to the clubs constitution requiring updating to comply with Motorsport UK and insurance purposes\, an EGM (emergency general meeting) has been arranged for the above date and time. The clubs entire membership has been emailed with the details and an invite to join if required. The proposed updated constitution has also been emailed to all members of the club . Please contact any committee member if you wish to join the EGM as soon as possible . The updated version of the constitution will be voted on at the EGM and if approved will be implemented immediately 
URL:https://nwlrc.co.uk/event/egm/
END:VEVENT
BEGIN:VEVENT
DTSTART;VALUE=DATE:20231029
DTEND;VALUE=DATE:20231030
DTSTAMP:20260420T182156
CREATED:20161020T090915Z
LAST-MODIFIED:20231028T155242Z
UID:2339-1698537600-1698623999@nwlrc.co.uk
SUMMARY:Bryn Gwyn Farm\, Gwernymynydd\, Mold  - TYRO/CCV
DESCRIPTION:CCV – Pre-booked =  £30  on the day =£35 \nTYRO –  pre-booked =£25 on the day =£30 \nPlease arrive at 8.30/9.00 for scrutineering for a 9.30 start. \n  \nBryngwyn Farm\, Gwernymynydd Road\, Mold\, CH7 4DY \nFrom A55\, junction 33\, A5113 to Mold\, the A494 to Gwernymynydd follow to left turn at Rainbow Garage\, then turn right at Owain Glyndwr Pub\, after 0.5 mile site on right. Look out for the yellow arrows
URL:https://nwlrc.co.uk/event/bryngwyn-rtvccv/
LOCATION:Bryngwyn Farm\, CH7 4DY\, United Kingdom
CATEGORIES:Trials
ORGANIZER;CN="Competition Secretary":MAILTO:secretary.nwlrc@btinternet.com
END:VEVENT
BEGIN:VEVENT
DTSTART;VALUE=DATE:20231009
DTEND;VALUE=DATE:20231010
DTSTAMP:20260420T182156
CREATED:20161215T154221Z
LAST-MODIFIED:20241009T120116Z
UID:2607-1696809600-1696895999@nwlrc.co.uk
SUMMARY:Bryngwyn Farm\, Mold - RTV/CCV
DESCRIPTION:Please arrive at 8.30/9.00 for scrutineering for a 9.30 start. \nBOOK NOW \nBryngwyn Farm\, Gwernymynydd Road\, Mold\, CH7 4DY \nFrom A55\, junction 33\, A5113 to Mold\, the A494 to Gwernymynydd follow to left turn at Rainbow Garage\, then turn right at Owain Glyndwr Pub\, after 0.5 mile site on right. Look out for the yellow arrows
URL:https://nwlrc.co.uk/event/bryngwyn-mold-rtvccv/
LOCATION:Bryngwyn Farm\, CH7 4DY\, United Kingdom
CATEGORIES:Trials
ORGANIZER;CN="Competition Secretary":MAILTO:secretary.nwlrc@btinternet.com
END:VEVENT
BEGIN:VEVENT
DTSTART;VALUE=DATE:20230924
DTEND;VALUE=DATE:20230925
DTSTAMP:20260420T182156
CREATED:20230123T125554Z
LAST-MODIFIED:20230829T170322Z
UID:5097-1695513600-1695599999@nwlrc.co.uk
SUMMARY:Nant Mawr CCV/TYRO
DESCRIPTION:Cancelled due to lack of officials\n  \nCCV – Pre-booked =  £30  on the day =£35 \nTYRO –  pre-booked =£25 on the day =£30 \nNant Mawr Farm\, Llangernyw\, Nr Abergele\, LL22 8PF
URL:https://nwlrc.co.uk/event/5097/
CATEGORIES:Trials
END:VEVENT
BEGIN:VEVENT
DTSTART;VALUE=DATE:20230730
DTEND;VALUE=DATE:20230731
DTSTAMP:20260420T182156
CREATED:20220904T163525Z
LAST-MODIFIED:20230628T075049Z
UID:5003-1690675200-1690761599@nwlrc.co.uk
SUMMARY:Nant Mawr CCV & Tyro Trial
DESCRIPTION:CCV – Pre-booked =  £30  on the day =£35 \nTYRO –  pre-booked =£25 on the day =£30 \nNant Mawr Farm\, Llangernyw\, Nr Abergele\, LL22 8PF \nPlease arrive at 8.30/9.00 for scrutineering for a 9.30 start. BOOK NOW
URL:https://nwlrc.co.uk/event/nant-mawr-ccv-tyro-trial/
LOCATION:Nant Mawr Farm\, Llangernyw\, LL22 8PF\, United Kingdom
CATEGORIES:Trials
ORGANIZER;CN="Competition Secretary":MAILTO:secretary.nwlrc@btinternet.com
END:VEVENT
BEGIN:VEVENT
DTSTART;TZID=UTC:20220910T093000
DTEND;TZID=UTC:20220911T170000
DTSTAMP:20260420T182156
CREATED:20161020T112646Z
LAST-MODIFIED:20220805T143416Z
UID:2359-1662802200-1662915600@nwlrc.co.uk
SUMMARY:Peterborough LRO Show - Show/Exhibition
DESCRIPTION:
URL:https://nwlrc.co.uk/event/peterborough-lro-show-showexhibition/
CATEGORIES:Social Events
ORGANIZER;CN="Kim Whormsley":MAILTO:kimwhormsley@googlemail.com
END:VEVENT
BEGIN:VEVENT
DTSTART;TZID=UTC:20220523T193000
DTEND;TZID=UTC:20220523T213000
DTSTAMP:20260420T182156
CREATED:20161206T153148Z
LAST-MODIFIED:20220512T082427Z
UID:2543-1653334200-1653341400@nwlrc.co.uk
SUMMARY:Committee meeting
DESCRIPTION:North Wales Land Rover club committee hold a committee meeting
URL:https://nwlrc.co.uk/event/committee-meeting-12/
LOCATION:The Motorsports Lounge\, Builders Street\, Llandudno\, LL30 1DR
CATEGORIES:Committee meeting
ORGANIZER;CN="Kim Whormsley":MAILTO:kimwhormsley@googlemail.com
END:VEVENT
BEGIN:VEVENT
DTSTART;TZID=UTC:20220311T193000
DTEND;TZID=UTC:20220312T220000
DTSTAMP:20260420T182156
CREATED:20161207T173722Z
LAST-MODIFIED:20230227T122615Z
UID:2547-1647027000-1647122400@nwlrc.co.uk
SUMMARY:AGM
DESCRIPTION:Dear Member\nYou are invited to the North Wales Land Rover Club Annual General Meeting to be held on the first floor via stairs only at The Motorsports Lounge\, Builders Street\, Llandudno. LL30 1DR  on Monday 20th  March 2023\, starting at 7.30 pm prompt. \nPlease note that the AGM is open to all current paid up members so please bring your Membership card\, as you will be asked to show your up to date membership card on arrival \nPlease note that all positions on the committee are open for members to take on\, and nominations are invited by contacting the chairman for a nomination form\, and returning to myself by Monday 6th March at the latest. \nAny member that wishes to raise something that they want to discuss at the AGM\, to let me know beforehand. \n 
URL:https://nwlrc.co.uk/event/agm-2/
LOCATION:The Motorsports Lounge\, Builders Street\, Llandudno\, LL30 1DR
CATEGORIES:Committee meeting,Social Events
ORGANIZER;CN="Club Secretary":MAILTO:secretary.nwlrc@btinternet.com
END:VEVENT
BEGIN:VEVENT
DTSTART;TZID=UTC:20220207T193000
DTEND;TZID=UTC:20220207T213000
DTSTAMP:20260420T182156
CREATED:20161206T152304Z
LAST-MODIFIED:20220105T103010Z
UID:2533-1644262200-1644269400@nwlrc.co.uk
SUMMARY:Committee meeting
DESCRIPTION:North Wales Land Rover club committee hold a committee meeting the first Monday of every month except for the bank holiday which will be the second Monday of the month. Due to Covid 19\, some of the committee meetings are done via Zoom. All club members welcome to attend \, so why not come along to meet the committee and have your say. Please check if your wishing to attend if the meeting is face to face or via Zoom
URL:https://nwlrc.co.uk/event/committee-meeting-8/
LOCATION:The Motorsports Lounge\, Builders Street\, Llandudno\, LL30 1DR
CATEGORIES:Committee meeting
ORGANIZER;CN="Competition Secretary":MAILTO:secretary.nwlrc@btinternet.com
END:VEVENT
BEGIN:VEVENT
DTSTART;VALUE=DATE:20210724
DTEND;VALUE=DATE:20210726
DTSTAMP:20260420T182156
CREATED:20161214T165356Z
LAST-MODIFIED:20210705T190928Z
UID:2590-1627084800-1627257599@nwlrc.co.uk
SUMMARY:Nant Mawr Farm\, Llangernyw\, Nr Abergele - RTV/CCV/TYRO & CAMPING
DESCRIPTION:Nant Mawr Farm\, Llangernyw\, Nr Abergele\, LL22 8PF \nOpen to all North Wales Land Rover club members \nSaturday 24th – Never set out a trial? Here’s your opportunity to have a go\, come along and help set out some sections with some more experienced members. Also if you have never marshalled an event this will be the ideal opportunity to gain some experience . Camping is available from the Friday & Saturday nights free of charge.   We will set out some sections for each group – RTV\, CCV and TYRO\, A Gymkhana will also take place on Saturday afternoon and then on the Sunday 25th we will run a trial.  During Saturday evening a BBQ will be provided along with some family entertainment. Anyone wishing to attend this event MUST email the secretary or the competition secretary with your intentions to attend due to Covid regulations. For more information have a look on Facebook or contact our club Secretary\, Wyn Williams\,  secretary.nwlrc@btinternet.com  or our Competition Secretary\, Colin Davies\, cdavies735@btinternet.com
URL:https://nwlrc.co.uk/event/nant-mawr-farm-llangernyw-nr-abergele-rtv-ccv-tyro-camping/
LOCATION:Nant Mawr Farm\, Llangernyw\, LL22 8PF\, United Kingdom
CATEGORIES:Social Events,Trials
ORGANIZER;CN="Competition Secretary":MAILTO:secretary.nwlrc@btinternet.com
END:VEVENT
BEGIN:VEVENT
DTSTART;VALUE=DATE:20200829
DTEND;VALUE=DATE:20200901
DTSTAMP:20260420T182156
CREATED:20170611T191040Z
LAST-MODIFIED:20200606T102355Z
UID:2963-1598659200-1598918399@nwlrc.co.uk
SUMMARY:Interclub Camping
DESCRIPTION:NWLRC Interclub 2020 update \nOn behalf of NWLRC Committee \nas most of you may be unaware the bridge crossing to the interclub site at Nant Mawr suffered severe structural damage during the floods earlier in the year\, we have been keeping in close contact with Aled the landowner as to the progress regarding the bridge repairs\, as yet the insurance company are yet to send out a structural engineer to survey the damage\, the committee have held off in making a decision on the interclub for as long as possible hoping that the bridge repairs would be carried in time for august bank holiday\, also due to the Covid19 pandemic restrictions in wales that are currently in place\, the committe have had to make the difficult decision to cancel this years interclub. \nin the meantime we hope you all stay safe and well and we look forward to welcoming you all to the 2021 NWLRC Interclub
URL:https://nwlrc.co.uk/event/interclub/
CATEGORIES:August bank holiday weekend,Social Events
ORGANIZER;CN="Competition Secretary":MAILTO:secretary.nwlrc@btinternet.com
END:VEVENT
BEGIN:VEVENT
DTSTART;VALUE=DATE:20200829
DTEND;VALUE=DATE:20200901
DTSTAMP:20260420T182156
CREATED:20161020T104305Z
LAST-MODIFIED:20200606T102526Z
UID:2353-1598659200-1598918399@nwlrc.co.uk
SUMMARY:NWLRC Interclub - Comp Safari
DESCRIPTION:NWLRC Interclub 2020 update \nOn behalf of NWLRC Committee \nas most of you may be unaware the bridge crossing to the interclub site at Nant Mawr suffered severe structural damage during the floods earlier in the year\, we have been keeping in close contact with Aled the landowner as to the progress regarding the bridge repairs\, as yet the insurance company are yet to send out a structural engineer to survey the damage\, the committee have held off in making a decision on the interclub for as long as possible hoping that the bridge repairs would be carried in time for august bank holiday\, also due to the Covid19 pandemic restrictions in wales that are currently in place\, the committe have had to make the difficult decision to cancel this years interclub. \nin the meantime we hope you all stay safe and well and we look forward to welcoming you all to the 2021 NWLRC Interclub \n 
URL:https://nwlrc.co.uk/event/nwlrc-interclub-brynteg-comp-safari/
CATEGORIES:August bank holiday weekend,Comp Safari,Social Events,Trials
ORGANIZER;CN="Competition Secretary":MAILTO:secretary.nwlrc@btinternet.com
END:VEVENT
BEGIN:VEVENT
DTSTART;VALUE=DATE:20200829
DTEND;VALUE=DATE:20200901
DTSTAMP:20260420T182156
CREATED:20161020T084745Z
LAST-MODIFIED:20200606T102557Z
UID:2316-1598659200-1598918399@nwlrc.co.uk
SUMMARY:NWLRC Interclub  - CCV/Tyro
DESCRIPTION:  \nNWLRC Interclub 2020 update \nOn behalf of NWLRC Committee \nas most of you may be unaware the bridge crossing to the interclub site at Nant Mawr suffered severe structural damage during the floods earlier in the year\, we have been keeping in close contact with Aled the landowner as to the progress regarding the bridge repairs\, as yet the insurance company are yet to send out a structural engineer to survey the damage\, the committee have held off in making a decision on the interclub for as long as possible hoping that the bridge repairs would be carried in time for august bank holiday\, also due to the Covid19 pandemic restrictions in wales that are currently in place\, the committe have had to make the difficult decision to cancel this years interclub. \nin the meantime we hope you all stay safe and well and we look forward to welcoming you all to the 2021 NWLRC Interclub
URL:https://nwlrc.co.uk/event/nwlrc-interclub-brynteg-ccvrtv/
CATEGORIES:August bank holiday weekend,Trials
ORGANIZER;CN="Competition Secretary":MAILTO:secretary.nwlrc@btinternet.com
END:VEVENT
BEGIN:VEVENT
DTSTART;VALUE=DATE:20200829
DTEND;VALUE=DATE:20200901
DTSTAMP:20260420T182156
CREATED:20161020T084500Z
LAST-MODIFIED:20200606T102624Z
UID:2314-1598659200-1598918399@nwlrc.co.uk
SUMMARY:NWLRC Interclub  - RTV
DESCRIPTION:NWLRC Interclub 2020 update \nOn behalf of NWLRC Committee \nas most of you may be unaware the bridge crossing to the interclub site at Nant Mawr suffered severe structural damage during the floods earlier in the year\, we have been keeping in close contact with Aled the landowner as to the progress regarding the bridge repairs\, as yet the insurance company are yet to send out a structural engineer to survey the damage\, the committee have held off in making a decision on the interclub for as long as possible hoping that the bridge repairs would be carried in time for august bank holiday\, also due to the Covid19 pandemic restrictions in wales that are currently in place\, the committe have had to make the difficult decision to cancel this years interclub. \nin the meantime we hope you all stay safe and well and we look forward to welcoming you all to the 2021 NWLRC Interclub \n 
URL:https://nwlrc.co.uk/event/nwlrc-interclub-brynteg-tyro-bike-trail/
CATEGORIES:August bank holiday weekend,Trials
ORGANIZER;CN="Competition Secretary":MAILTO:secretary.nwlrc@btinternet.com
END:VEVENT
BEGIN:VEVENT
DTSTART;VALUE=DATE:20200614
DTEND;VALUE=DATE:20200615
DTSTAMP:20260420T182156
CREATED:20161020T112006Z
LAST-MODIFIED:20191227T122538Z
UID:2355-1592092800-1592179199@nwlrc.co.uk
SUMMARY:Babell (Joint Event with S&S) - Comp Safari
DESCRIPTION:The postcode is CH8 8QL but you MUST! come off A55 at Junction 32a\, towards Halkyn pass Springfield Hotel at top of hill\, turn right then first left signposted Babell\, straight ahead at two crossroads and follow the arrows.
URL:https://nwlrc.co.uk/event/babell-joint-event-with-ss-comp-safari/
CATEGORIES:Comp Safari
ORGANIZER;CN="Competition Secretary":MAILTO:secretary.nwlrc@btinternet.com
END:VEVENT
BEGIN:VEVENT
DTSTART;TZID=UTC:20200425T100000
DTEND;TZID=UTC:20200426T170000
DTSTAMP:20260420T182156
CREATED:20171107T172249Z
LAST-MODIFIED:20191227T121651Z
UID:3553-1587808800-1587920400@nwlrc.co.uk
SUMMARY:The adventure Overland Show
DESCRIPTION:http://www.adventureoverlandshow.net/
URL:https://nwlrc.co.uk/event/the-adventure-overland-show/
LOCATION:Stratford Racecourse\, Stratford-upon-Avon\, Warwickshire CV37 9SE\, Stratford Racecourse\, Stratford-upon-Avon\,\, Warwickshire\, CV37 9SE\, United Kingdom
ORGANIZER;CN="Kim Whormsley":MAILTO:kimwhormsley@googlemail.com
END:VEVENT
BEGIN:VEVENT
DTSTART;TZID=UTC:20191104T193000
DTEND;TZID=UTC:20191104T213000
DTSTAMP:20260420T182156
CREATED:20161206T153026Z
LAST-MODIFIED:20161206T153026Z
UID:2541-1572895800-1572903000@nwlrc.co.uk
SUMMARY:Committee meeting
DESCRIPTION:North Wales Land Rover club committee meet the first Monday of every month except for the bank holiday which will be the second Monday of the month. All club members welcome to attend \, so why not come along to meet the committee and have your say
URL:https://nwlrc.co.uk/event/committee-meeting-11/
LOCATION:Faenol fawr\, Rhuddlan Rd\, Bodelwyddan\, LL18 5UN\, United Kingdom
CATEGORIES:Committee meeting
ORGANIZER;CN="Competition Secretary":MAILTO:secretary.nwlrc@btinternet.com
END:VEVENT
BEGIN:VEVENT
DTSTART;TZID=UTC:20191007T193000
DTEND;TZID=UTC:20191007T213000
DTSTAMP:20260420T182156
CREATED:20161206T152802Z
LAST-MODIFIED:20161206T152802Z
UID:2539-1570476600-1570483800@nwlrc.co.uk
SUMMARY:Committee meeting
DESCRIPTION:North Wales Land Rover club committee meet the first Monday of every month except for the bank holiday which will be the second Monday of the month. All club members welcome to attend \, so why not come along to meet the committee and have your say
URL:https://nwlrc.co.uk/event/committee-meeting-10/
LOCATION:Faenol fawr\, Rhuddlan Rd\, Bodelwyddan\, LL18 5UN\, United Kingdom
CATEGORIES:Committee meeting
ORGANIZER;CN="Competition Secretary":MAILTO:secretary.nwlrc@btinternet.com
END:VEVENT
BEGIN:VEVENT
DTSTART;VALUE=DATE:20190922
DTEND;VALUE=DATE:20190923
DTSTAMP:20260420T182156
CREATED:20161214T153008Z
LAST-MODIFIED:20200213T094029Z
UID:2580-1569110400-1569196799@nwlrc.co.uk
SUMMARY:RTV/CCV - LOCATION TO BE CONFIRMED - CANCELLED
DESCRIPTION:Please arrive at 8.30/9.00 for scrutineering for a 9.30 start \nLocation to be confirmed \nCLICK HERE TO BOOK
URL:https://nwlrc.co.uk/event/rtv-ccv-location-to-be-confirmed/
CATEGORIES:Trials
ORGANIZER;CN="Competition Secretary":MAILTO:secretary.nwlrc@btinternet.com
END:VEVENT
BEGIN:VEVENT
DTSTART;VALUE=DATE:20190914
DTEND;VALUE=DATE:20190916
DTSTAMP:20260420T182156
CREATED:20161020T083941Z
LAST-MODIFIED:20161020T083941Z
UID:2310-1568419200-1568591999@nwlrc.co.uk
SUMMARY:Majors Memorial Trial  - CCV Team Event
DESCRIPTION: 
URL:https://nwlrc.co.uk/event/majors-memorial-trail-eastnor-ccv-team-event/
CATEGORIES:Trials
ORGANIZER;CN="Competition Secretary":MAILTO:secretary.nwlrc@btinternet.com
END:VEVENT
BEGIN:VEVENT
DTSTART;TZID=UTC:20190902T193000
DTEND;TZID=UTC:20190902T193000
DTSTAMP:20260420T182156
CREATED:20161206T144246Z
LAST-MODIFIED:20161206T144246Z
UID:2509-1567452600-1567452600@nwlrc.co.uk
SUMMARY:Committee meeting
DESCRIPTION:North Wales Land Rover club committee meet the first Monday of every month except for the bank holiday which will be the second Monday of the month. All club members welcome  to attend \,  so why not come along  to meet the committee and have your say
URL:https://nwlrc.co.uk/event/committee-meeting/
LOCATION:Faenol fawr\, Rhuddlan Rd\, Bodelwyddan\, LL18 5UN\, United Kingdom
CATEGORIES:Committee meeting
ORGANIZER;CN="Competition Secretary":MAILTO:secretary.nwlrc@btinternet.com
END:VEVENT
BEGIN:VEVENT
DTSTART;VALUE=DATE:20190727
DTEND;VALUE=DATE:20190729
DTSTAMP:20260420T182156
CREATED:20161020T112746Z
LAST-MODIFIED:20190915T173939Z
UID:2361-1564185600-1564358399@nwlrc.co.uk
SUMMARY:Kelmarsh Land Rover Show - Show/Exhibition
DESCRIPTION:
URL:https://nwlrc.co.uk/event/httpkelmarshlandrovershow-com/
CATEGORIES:Social Events
ORGANIZER;CN="Kim Whormsley":MAILTO:kimwhormsley@googlemail.com
END:VEVENT
BEGIN:VEVENT
DTSTART;TZID=UTC:20190718T080000
DTEND;TZID=UTC:20190719T170000
DTSTAMP:20260420T182156
CREATED:20191227T124522Z
LAST-MODIFIED:20200606T103125Z
UID:4218-1563436800-1563555600@nwlrc.co.uk
SUMMARY:Welcome to NWLRC Free introduction weekend
DESCRIPTION:
URL:https://nwlrc.co.uk/event/welcome-to-nwlrc-free-introduction-weekend/
LOCATION:LLanfair\, LL22 8PF\, United Kingdom
END:VEVENT
BEGIN:VEVENT
DTSTART;VALUE=DATE:20190707
DTEND;VALUE=DATE:20190708
DTSTAMP:20260420T182156
CREATED:20161020T112914Z
LAST-MODIFIED:20161020T112914Z
UID:2363-1562457600-1562543999@nwlrc.co.uk
SUMMARY:Caerwys Show - Show/Exhibition
DESCRIPTION:
URL:https://nwlrc.co.uk/event/caerwys-show-showexhibition/
LOCATION:Annual classic car show\, Caerwys\, Mold\, Ch7 5bh\, United Kingdom
CATEGORIES:Social Events
ORGANIZER;CN="Kim Whormsley":MAILTO:kimwhormsley@googlemail.com
END:VEVENT
BEGIN:VEVENT
DTSTART;TZID=UTC:20190701T193000
DTEND;TZID=UTC:20190701T213000
DTSTAMP:20260420T182156
CREATED:20161206T152004Z
LAST-MODIFIED:20161206T152004Z
UID:2530-1562009400-1562016600@nwlrc.co.uk
SUMMARY:Committee meeting
DESCRIPTION:North Wales Land Rover club committee meet the first Monday of every month except for the bank holiday which will be the second Monday of the month. All club members welcome to attend \, so why not come along to meet the committee and have your say
URL:https://nwlrc.co.uk/event/committee-meeting-7/
LOCATION:Faenol fawr\, Rhuddlan Rd\, Bodelwyddan\, LL18 5UN\, United Kingdom
CATEGORIES:Committee meeting
ORGANIZER;CN="Competition Secretary":MAILTO:secretary.nwlrc@btinternet.com
END:VEVENT
END:VCALENDAR