BEGIN:VCALENDAR
VERSION:2.0
PRODID:-//North Wales Landrover Club - ECPv6.15.20//NONSGML v1.0//EN
CALSCALE:GREGORIAN
METHOD:PUBLISH
X-WR-CALNAME:North Wales Landrover Club
X-ORIGINAL-URL:https://nwlrc.co.uk
X-WR-CALDESC:Events for North Wales Landrover Club
REFRESH-INTERVAL;VALUE=DURATION:PT1H
X-Robots-Tag:noindex
X-PUBLISHED-TTL:PT1H
BEGIN:VTIMEZONE
TZID:UTC
BEGIN:STANDARD
TZOFFSETFROM:+0000
TZOFFSETTO:+0000
TZNAME:UTC
DTSTART:20250101T000000
END:STANDARD
END:VTIMEZONE
BEGIN:VEVENT
DTSTART;TZID=UTC:20260628T093000
DTEND;TZID=UTC:20260628T160000
DTSTAMP:20260422T220644
CREATED:20220106T172730Z
LAST-MODIFIED:20260111T085535Z
UID:4847-1782639000-1782662400@nwlrc.co.uk
SUMMARY:Brynteg TYRO/CCV
DESCRIPTION:TBC \nCCV – Pre-booked =  £30  on the day =£35 \nTYRO –  pre-booked =£25 on the day =£30 \nPlease arrive at 8.30/9.00 for scrutineering for a 9.30 start.
URL:https://nwlrc.co.uk/event/brynteg/
LOCATION:Brynteg Farm\, Rhuddlan Bach\, Brynteg\, Benllech\, Anglesey\, LL78 7JJ\, United Kingdom
CATEGORIES:Trials
ORGANIZER;CN="Competition Secretary":MAILTO:secretary.nwlrc@btinternet.com
END:VEVENT
BEGIN:VEVENT
DTSTART;VALUE=DATE:20260702
DTEND;VALUE=DATE:20260707
DTSTAMP:20260422T220644
CREATED:20161020T113026Z
LAST-MODIFIED:20260125T114454Z
UID:2365-1782950400-1783382399@nwlrc.co.uk
SUMMARY:War of The Roses - Show/Exhibition
DESCRIPTION:This is the Red Rose Land Rover Club’s Annual Inter club with the main event being the ‘War’ which this year will take place on the Saturday 4th July. North Wales Land Rover Club have for many years entered a team and hope to do so again this year 2026 if we gain enough interest . \nOn the Friday evening \, a Tyro will be held and CCV and RTV will take place on Sunday 5th July\, which are open to North Wales Land Rover Club Members and members from other clubs. Also a bike trial and welly throwing will take place on Sunday. Camping and trials booking is available via the link below. \nLINK \n  \n 
URL:https://nwlrc.co.uk/event/war-of-the-roses-showexhibition/
LOCATION:Cartmel\, Cartmel Racecourse \,  Ulverston\,\, LA11 6QF\, United Kingdom
CATEGORIES:Social Events
END:VEVENT
BEGIN:VEVENT
DTSTART;TZID=UTC:20260711T080000
DTEND;TZID=UTC:20260712T170000
DTSTAMP:20260422T220644
CREATED:20251222T105859Z
LAST-MODIFIED:20260111T090234Z
UID:6086-1783756800-1783875600@nwlrc.co.uk
SUMMARY:The Big Land Rover Festival
DESCRIPTION:New show for this year \nIf you wish to attend\, you need to contact me and I will send a link to you where you can book and pay to go on the North Wales Land Rover club stand. Spaces are limited and you must confirm with me that you are booked and paid to be able to come on our club stand \, even if you pre-booked and pay \, without confirmation to myself that you have done so may result in you not being able to pitch up on the club stand .Thanks for your understanding  \nlink \n 
URL:https://nwlrc.co.uk/event/the-big-land-rover-festival/
CATEGORIES:Social Events
ORGANIZER;CN="Kim Whormsley":MAILTO:kimwhormsley@googlemail.com
END:VEVENT
BEGIN:VEVENT
DTSTART;TZID=UTC:20260726T090000
DTEND;TZID=UTC:20260726T170000
DTSTAMP:20260422T220644
CREATED:20240108T122427Z
LAST-MODIFIED:20260111T085807Z
UID:5489-1785056400-1785085200@nwlrc.co.uk
SUMMARY:LLanfair TH
DESCRIPTION:  \nTBC \nCCV – Pre-booked =  £30  on the day =£35 \nTYRO –  pre-booked =£25 on the day =£30 \nPlease arrive at 8.30/9.00 for scrutineering for a 9.30 start.
URL:https://nwlrc.co.uk/event/llanfair-th/
LOCATION:LLanfair\, LL22 8PF\, United Kingdom
CATEGORIES:Trials
ORGANIZER;CN="Competition Secretary":MAILTO:secretary.nwlrc@btinternet.com
END:VEVENT
BEGIN:VEVENT
DTSTART;VALUE=DATE:20260808
DTEND;VALUE=DATE:20260810
DTSTAMP:20260422T220644
CREATED:20250614T070358Z
LAST-MODIFIED:20260111T084913Z
UID:5967-1786147200-1786319999@nwlrc.co.uk
SUMMARY:Anglesey Autofest
DESCRIPTION:Our club will be attending Anglesey auto Fest for the whole weekend \nhttps://www.angleseyautofest.co.uk/
URL:https://nwlrc.co.uk/event/anglesey-auto-fastest/
CATEGORIES:Social Events,Trials
ORGANIZER;CN="Competition Secretary":MAILTO:secretary.nwlrc@btinternet.com
END:VEVENT
BEGIN:VEVENT
DTSTART;TZID=UTC:20260828T080000
DTEND;TZID=UTC:20260831T120000
DTSTAMP:20260422T220644
CREATED:20220805T142903Z
LAST-MODIFIED:20260212T101715Z
UID:4974-1787904000-1788177600@nwlrc.co.uk
SUMMARY:Brynteg August Bank Holiday Weekend
DESCRIPTION:NWLRC August Bank Holiday weekend (28th – 31st August 2026)\nBrynteg\, Anglesey. \nThis year NWLRC will be celebrating our 40th year and to mark this special occasion\, a laser show will take place on Saturday 29th in the evening  \nOnline Booking for camping & Tyro will be posted once all arrangements have been made ( probably early June and the link for booking will be posted the same time) you should receive your booking confirmation within 2-3 working days. \nWeekend schedule.\nSat 29th – Sun 30th\nPennine LRC will be hosting a 2 day CCV trial\, entries for CCV trial are pay on the day.\nSat 29th\nNWLRC TYRO trial (pre paid entries only) entry forms are on the same booking as the online camping booking. \nMonday 31st\nComp Safari hosted by S&S LRC\, the comp safari will be co-ordinated & ran by S&S LRC\, all enquires & entries for the comp are via the S&S Lrc website. \nThere will be a bicycle trial for all ages but it is compulsory all entrants to the bicycle trial must wear a safety helmet.\nAs previous years there will be Live Entertainment Sun night by the group Hawker\nThe weekends catering\, Light refreshments & Bar will be provided by the Traveling tavern and Boundary Bangers\nToilets & Showers will be provided.\nExtra nights camping will be available for Thursday & Monday night at extra cost. \nWe look forward to welcoming you all. \nNWLRC committee.
URL:https://nwlrc.co.uk/event/brynteg-anugust-bank-holiday-weekend/
LOCATION:Brynteg Farm\, Rhuddlan Bach\, Brynteg\, Benllech\, Anglesey\, LL78 7JJ\, United Kingdom
CATEGORIES:August bank holiday weekend,Comp Safari,Social Events,Trials
END:VEVENT
END:VCALENDAR